BEGIN:VCALENDAR
VERSION:2.0
PRODID:icalendar-ruby
CALSCALE:GREGORIAN
METHOD:PUBLISH
BEGIN:VEVENT
DTSTAMP:20260422T154019Z
UID:02ef0cc8-7239-49fa-b662-1328643dc2f0
DTSTART:20260425T090000
DTEND:20260425T170000
DESCRIPTION:Categories: Visual Arts\, Sculpture\, Nature/Outdoors\nType: Fe
 stival\nAttributes: Free\, Family Friendly\, Outdoors\, Brought to you by 
 Cincy A&E\nInfo: \nCelebrate Earth Day\, Arbor Day\, and International Scu
 lpture Day with Pyramid Hill and our partners. Enjoy free park admission a
 nd all-day programming.More info here: https://www.pyramidhill.org/eventsT
 his calendar listing is brought to you by Cincy A&amp\;E\, the Cincinnati 
 region's one-stop\, online calendar for arts and entertainment events\, po
 wered by ArtsWave.
SUMMARY:Art & Earth Day
END:VEVENT
END:VCALENDAR
