BEGIN:VCALENDAR
VERSION:2.0
PRODID:icalendar-ruby
CALSCALE:GREGORIAN
METHOD:PUBLISH
BEGIN:VEVENT
DTSTAMP:20260422T153431Z
UID:3d2ba2d1-af79-4797-b539-a7864ca3ad8d
DTSTART:20260508T110000
DTEND:20260508T130000
DESCRIPTION:Categories: Theater/Performance\nType: Concert\nAttributes: Bro
 ught to you by Cincy A&E\nInfo: The season closes in a dramatic and triump
 hant fashion with some of the greatest orchestral music ever written. Jenn
 ifer Higdon’s brief but striking fanfare sets the tone before Beethoven
 ’s&nbsp\;Emperor&nbsp\;Concerto opens with a commanding\, majestic flour
 ish\, instantly igniting a sense of awe. After a moment of lyrical reverie
  that seems to suspend time\, the music propels forward with irrepressible
  joy and optimism. In contrast\, Tchaikovsky’s Symphony No. 4 delves dee
 p into the human experience\, embodying the struggle between fate and the 
 quest for happiness. From its powerful brass fanfare—fate’s ominous ca
 ll—to the electrifying energy of the finale\, the symphony is a deeply c
 athartic journey through anguish\, resilience and eventual exhilaration.\n
 \nThis project is supported by the generosity of tens of thousands of cont
 ributors to the annual ArtsWave Campaign\, the Cincinnati region's primary
  source for arts funding.\n\nThis calendar listing is brought to you by Ci
 ncy A&amp\;E\, the Cincinnati region's one-stop\, online calendar for arts
  and entertainment events\, powered by ArtsWave.
SUMMARY:Beethoven & Tchaikovsky
END:VEVENT
BEGIN:VEVENT
DTSTAMP:20260422T153431Z
UID:60569468-abdb-49bf-b4d3-89a2b4dd73f3
DTSTART:20260509T193000
DTEND:20260509T213000
DESCRIPTION:Categories: Theater/Performance\nType: Concert\nAttributes: Bro
 ught to you by Cincy A&E\nInfo: The season closes in a dramatic and triump
 hant fashion with some of the greatest orchestral music ever written. Jenn
 ifer Higdon’s brief but striking fanfare sets the tone before Beethoven
 ’s&nbsp\;Emperor&nbsp\;Concerto opens with a commanding\, majestic flour
 ish\, instantly igniting a sense of awe. After a moment of lyrical reverie
  that seems to suspend time\, the music propels forward with irrepressible
  joy and optimism. In contrast\, Tchaikovsky’s Symphony No. 4 delves dee
 p into the human experience\, embodying the struggle between fate and the 
 quest for happiness. From its powerful brass fanfare—fate’s ominous ca
 ll—to the electrifying energy of the finale\, the symphony is a deeply c
 athartic journey through anguish\, resilience and eventual exhilaration.\n
 \nThis project is supported by the generosity of tens of thousands of cont
 ributors to the annual ArtsWave Campaign\, the Cincinnati region's primary
  source for arts funding.\n\nThis calendar listing is brought to you by Ci
 ncy A&amp\;E\, the Cincinnati region's one-stop\, online calendar for arts
  and entertainment events\, powered by ArtsWave.
SUMMARY:Beethoven & Tchaikovsky
END:VEVENT
END:VCALENDAR
