BEGIN:VCALENDAR
VERSION:2.0
PRODID:icalendar-ruby
CALSCALE:GREGORIAN
METHOD:PUBLISH
BEGIN:VEVENT
DTSTAMP:20260422T153431Z
UID:c3d7d19d-e094-40fc-b405-d028fb55da8e
DTSTART:20260516T193000
DTEND:20260516T235900
DESCRIPTION:Categories: Jazz/Blues\, Music\, Theater/Performance\, Cultural
 \, Festivals and Fairs\, Big Band/Swing\nType: Performance\nAttributes: Br
 ought to you by Cincy A&E\nInfo: Explore&nbsp\;the elemental power of wate
 r through two bold visions. Duke Ellington’s&nbsp\;jazz-infused&nbsp\;Th
 e River&nbsp\;flows with elegance&nbsp\;and swing\,&nbsp\;portraying the r
 iver’s journey from tranquil beginnings to its powerful arrival at the s
 ea.&nbsp\;Its&nbsp\;momentum&nbsp\;leads&nbsp\;into&nbsp\;Ralph Vaughan Wi
 lliams’ monumental&nbsp\;A Sea Symphony\, which&nbsp\;sets&nbsp\;the poe
 try of Walt Whitman in a choral celebration of the ocean’s mystery and m
 ajesty&nbsp\;—&nbsp\;part hymn\, part voyage into the unknown.&nbsp\;Tog
 ether\, these works invite us to listen deeply&nbsp\;—&nbsp\;to the pull
  of tide and current\, and to the human longing for connection&nbsp\;and&n
 bsp\;discovery.\n\nThis project is supported by the generosity of tens of 
 thousands of contributors to the annual ArtsWave Campaign\, the Cincinnati
  region's primary source for arts funding.
SUMMARY:The Water's Journey
END:VEVENT
END:VCALENDAR
