BEGIN:VCALENDAR
VERSION:2.0
PRODID:icalendar-ruby
CALSCALE:GREGORIAN
METHOD:PUBLISH
BEGIN:VEVENT
DTSTAMP:20260422T151853Z
UID:ae6ea510-6de2-4e01-adc3-058b9368ff8a
DTSTART:20260710T180000
DTEND:20260710T235900
DESCRIPTION:Categories: Visual Arts\nType: Exhibition\nAttributes: Free\, B
 rought to you by Cincy A&E\nInfo: 2nd Friday Gallery Exhibit Opening &amp\
 ; Performance\n\nDate: Friday July 10th\nEvent:&nbsp\;Artist Reception at 
 6PM\,\nEvent: Musical Performance at 7:30PM\nLocation:&nbsp\;First Floor G
 alleries &amp\; North Parlor\nSponsors:&nbsp\;The Elms Hotel and Jack &amp
 \; Sally Southard\nCost:&nbsp\;Free\n\nThis project is supported by the ge
 nerosity of tens of thousands of contributors to the annual ArtsWave Campa
 ign\, the Cincinnati region's primary source for arts funding.\n\nThis cal
 endar listing is brought to you by Cincy A&amp\;E\, the Cincinnati region'
 s one-stop\, online calendar for arts and entertainment events\, powered b
 y ArtsWave.\n\nThis calendar listing is brought to you by Cincy A&amp\;E\,
  the Cincinnati region's one-stop\, online calendar for arts and entertain
 ment events\, powered by ArtsWave.
SUMMARY:2nd Friday Celebration of the Arts
END:VEVENT
END:VCALENDAR
